BEGIN:VCALENDAR
VERSION:2.0
PRODID:-//Venger Arstun//NONSGML kigkonsult.se iCalcreator 2.41.92//
CALSCALE:GREGORIAN
METHOD:PUBLISH
UID:39313362-6665-4764-a236-343162636338
X-WR-CALNAME:iCagenda
X-WR-CALDESC:Event Management Extension for Joomla!
X-WR-RELCALID:3E26604A-50F4-4449-8B3E-E4F4932D05B5
X-WR-TIMEZONE:Europe/Oslo
BEGIN:VTIMEZONE
TZID:Europe/Oslo
TZUNTIL:20271031T010000Z
BEGIN:STANDARD
TZNAME:CET
DTSTART:20251026T030000
TZOFFSETFROM:+0200
TZOFFSETTO:+0100
RDATE:20261025T030000
END:STANDARD
BEGIN:DAYLIGHT
TZNAME:CEST
DTSTART:20250330T020000
TZOFFSETFROM:+0100
TZOFFSETTO:+0200
RDATE:20260329T020000
RDATE:20270328T020000
END:DAYLIGHT
END:VTIMEZONE
BEGIN:VEVENT
UID:63613231-6433-4564-b063-636530383335
DTSTAMP:20260424T111527Z
CATEGORIES:Primstaven vinter
CLASS:PUBLIC
DESCRIPTION;ALTREP="CID:<FFFF__=0ABBE548DFE235B58f9e8a93d@coffeebean.com>":
 Nikolas av Myra (Nicolaus\, Nicolas\, Niklas\, Klaus\, Nils) var vernehelg
 en for sjøfolk og ble feiret med spel og drikk i Norge.\nPå Nilsmesse mått
 e man ikke legge ut på havet med skip.\nDen hellige Nikolas er kjent for s
 ine undere og gavmildhet\, døde i 350. I middelalderen ble han også skoleb
 arnas helgen\, og er i engelsktalende land blitt til Santa Claus (en slags
  julenisse).\nMerke: Bispelue\, krum stav\, kors\, hjul\, orm
DTSTART:20251205T230200Z
DTEND:20251205T230200Z
GEO:00;0
LOCATION:
ORGANIZER:
SEQUENCE:1
SUMMARY:Nilsmesse\, 6. desember
TRANSP:OPAQUE
URL:https://www.vengergarden.no/index.php/component/icagenda/13-nilsmesse-6
 -desember/2025-12-06-00-02?layout=vcal
END:VEVENT
END:VCALENDAR
