BEGIN:VCALENDAR
VERSION:2.0
PRODID:-//Venger Arstun//NONSGML kigkonsult.se iCalcreator 2.41.92//
CALSCALE:GREGORIAN
METHOD:PUBLISH
UID:62393666-6630-4166-a534-396661636163
X-WR-CALNAME:iCagenda
X-WR-CALDESC:Event Management Extension for Joomla!
X-WR-RELCALID:3E26604A-50F4-4449-8B3E-E4F4932D05B5
X-WR-TIMEZONE:Europe/Oslo
BEGIN:VTIMEZONE
TZID:Europe/Oslo
TZUNTIL:20261025T010000Z
BEGIN:STANDARD
TZNAME:CET
DTSTART:20241027T030000
TZOFFSETFROM:+0200
TZOFFSETTO:+0100
RDATE:20251026T030000
END:STANDARD
BEGIN:DAYLIGHT
TZNAME:CEST
DTSTART:20240331T020000
TZOFFSETFROM:+0100
TZOFFSETTO:+0200
RDATE:20250330T020000
RDATE:20260329T020000
END:DAYLIGHT
END:VTIMEZONE
BEGIN:VEVENT
UID:38306338-3937-4065-a162-643131313130
DTSTAMP:20260424T171822Z
CATEGORIES:Primstaven vinter
CLASS:PUBLIC
DESCRIPTION;ALTREP="CID:<FFFF__=0ABBE548DFE235B58f9e8a93d@coffeebean.com>":
 Merke: Snø eller prikker.Værmerke: Vinteren er halvgått\, men den kaldeste
  delen er att.Midtvinter\, snø.\nDagen er midt mellom første vinterdag 14.
  oktober og første sommerdag 14. april.\nBjørnen strekker seg i hiet. Dage
 n er også en av de farlige.
DTSTART:20250112T160100Z
DTEND:20250112T160100Z
GEO:00;0
LOCATION:
ORGANIZER:
SEQUENCE:1
SUMMARY:Midtvinterdag\, 12. januar
TRANSP:OPAQUE
URL:https://www.vengergarden.no/index.php/component/icagenda/32-midtvinterd
 ag-12-januar/2025-01-12-17-01?layout=vcal
END:VEVENT
END:VCALENDAR
