BEGIN:VCALENDAR
VERSION:2.0
PRODID:-//Venger Arstun//NONSGML kigkonsult.se iCalcreator 2.41.92//
CALSCALE:GREGORIAN
METHOD:PUBLISH
UID:33643239-3135-4338-b761-623162313937
X-WR-CALNAME:iCagenda
X-WR-CALDESC:Event Management Extension for Joomla!
X-WR-RELCALID:3E26604A-50F4-4449-8B3E-E4F4932D05B5
X-WR-TIMEZONE:Europe/Oslo
BEGIN:VTIMEZONE
TZID:Europe/Oslo
TZUNTIL:20291028T010000Z
BEGIN:STANDARD
TZNAME:CET
DTSTART:20271031T030000
TZOFFSETFROM:+0200
TZOFFSETTO:+0100
RDATE:20281029T030000
END:STANDARD
BEGIN:DAYLIGHT
TZNAME:CEST
DTSTART:20270328T020000
TZOFFSETFROM:+0100
TZOFFSETTO:+0200
RDATE:20280326T020000
RDATE:20290325T020000
END:DAYLIGHT
END:VTIMEZONE
BEGIN:VEVENT
UID:63303039-3137-4633-b665-363633373764
DTSTAMP:20260424T142345Z
CATEGORIES:Primstaven vinter
CLASS:PUBLIC
DESCRIPTION;ALTREP="CID:<FFFF__=0ABBE548DFE235B58f9e8a93d@coffeebean.com>":
 Mortensmesse\, Mortens dag\nHelgen: Martin av ToursMerke: Gås\, bispestav\
 , begerVærmerke: Hvis dagen er klar\, så blir vinteren hard.Også kalt Bjør
 nekvelden\, da bjørnen går i hi.\nDenne dagen skulle man spise godt og sør
 ge for at også de fattige fikk rikelig med mat.
DTSTART:20271110T230100Z
DTEND:20271110T230100Z
GEO:00;0
LOCATION:
ORGANIZER:
SEQUENCE:1
SUMMARY:Mortensmesse\, 11. november
TRANSP:OPAQUE
URL:https://www.vengergarden.no/index.php/merkedager/6-mortensmesse-11-nove
 mber/2027-11-11-00-01?layout=vcal
END:VEVENT
END:VCALENDAR
