BEGIN:VCALENDAR
VERSION:2.0
PRODID:-//Venger Arstun//NONSGML kigkonsult.se iCalcreator 2.41.92//
CALSCALE:GREGORIAN
METHOD:PUBLISH
UID:66646461-3033-4166-b039-623438616231
X-WR-CALNAME:iCagenda
X-WR-CALDESC:Event Management Extension for Joomla!
X-WR-RELCALID:3E26604A-50F4-4449-8B3E-E4F4932D05B5
X-WR-TIMEZONE:Europe/Oslo
BEGIN:VTIMEZONE
TZID:Europe/Oslo
TZUNTIL:20301027T010000Z
BEGIN:STANDARD
TZNAME:CET
DTSTART:20281029T030000
TZOFFSETFROM:+0200
TZOFFSETTO:+0100
RDATE:20291028T030000
END:STANDARD
BEGIN:DAYLIGHT
TZNAME:CEST
DTSTART:20280326T020000
TZOFFSETFROM:+0100
TZOFFSETTO:+0200
RDATE:20290325T020000
RDATE:20300331T020000
END:DAYLIGHT
END:VTIMEZONE
BEGIN:VEVENT
UID:64343863-3665-4731-b530-303938373962
DTSTAMP:20260424T111527Z
CATEGORIES:Primstaven vinter
CLASS:PUBLIC
DESCRIPTION;ALTREP="CID:<FFFF__=0ABBE548DFE235B58f9e8a93d@coffeebean.com>":
 Til minne om da Jomfru Maria ble fremstilt i tempelet som barn.Merke: Hode
  med krone\nDenne dagen skulle ungdommen få strømpebånd.
DTSTART:20281120T230000Z
DTEND:20281120T230000Z
GEO:00;0
LOCATION:
ORGANIZER:
SEQUENCE:1
SUMMARY:Marioffer\, 21. november
TRANSP:OPAQUE
URL:https://www.vengergarden.no/index.php/merkedager/8-marioffer-21-novembe
 r/2028-11-21-00-00?layout=vcal
END:VEVENT
END:VCALENDAR
