BEGIN:VCALENDAR
VERSION:2.0
PRODID:-//Venger Arstun//NONSGML kigkonsult.se iCalcreator 2.41.92//
CALSCALE:GREGORIAN
METHOD:PUBLISH
UID:63383339-3439-4131-a134-353838393136
X-WR-CALNAME:iCagenda
X-WR-CALDESC:Event Management Extension for Joomla!
X-WR-RELCALID:3E26604A-50F4-4449-8B3E-E4F4932D05B5
X-WR-TIMEZONE:Europe/Oslo
BEGIN:VTIMEZONE
TZID:Europe/Oslo
TZUNTIL:20310330T010000Z
BEGIN:STANDARD
TZNAME:CET
DTSTART:20281029T030000
TZOFFSETFROM:+0200
TZOFFSETTO:+0100
RDATE:20291028T030000
RDATE:20301027T030000
END:STANDARD
BEGIN:DAYLIGHT
TZNAME:CEST
DTSTART:20290325T020000
TZOFFSETFROM:+0100
TZOFFSETTO:+0200
RDATE:20300331T020000
END:DAYLIGHT
END:VTIMEZONE
BEGIN:VEVENT
UID:61656639-6338-4465-a330-393366393630
DTSTAMP:20260424T124016Z
CATEGORIES:Primstaven sommer
CLASS:PUBLIC
DESCRIPTION;ALTREP="CID:<FFFF__=0ABBE548DFE235B58f9e8a93d@coffeebean.com>":
 Korsmesse\, lille korsmesse\, høstkorsmesse:Til minne om at det hellige ko
 rset ble erobret tilbake fra perserne og gjenreist i Jerusalem.\nMerke: Ko
 rs\nKornet skal være i hus.Dyrene må føres hjem fra setra\, grinder skal t
 as vekk.
DTSTART:20290913T220100Z
DTEND:20290913T220100Z
GEO:00;0
LOCATION:
ORGANIZER:
SEQUENCE:1
SUMMARY:Lille korsmesse\, 14. september
TRANSP:OPAQUE
URL:https://www.vengergarden.no/index.php/merkedager/80-lille-korsmesse-14-
 september/2029-09-14-00-01?layout=vcal
END:VEVENT
END:VCALENDAR
